

BEGIN:VCALENDAR
VERSION:2.0
PRODID:-//CL: CasaLinguae - ECPv6.10.3//NONSGML v1.0//EN
CALSCALE:GREGORIAN
METHOD:PUBLISH
X-ORIGINAL-URL:https://casalinguae.at
X-WR-CALDESC:Veranstaltungen für CL: CasaLinguae
REFRESH-INTERVAL;VALUE=DURATION:PT1H
X-Robots-Tag:noindex
X-PUBLISHED-TTL:PT1H
BEGIN:VTIMEZONE
TZID:Europe/Vienna
BEGIN:DAYLIGHT
TZOFFSETFROM:+0100
TZOFFSETTO:+0200
TZNAME:CEST
DTSTART:20230326T010000
END:DAYLIGHT
BEGIN:STANDARD
TZOFFSETFROM:+0200
TZOFFSETTO:+0100
TZNAME:CET
DTSTART:20231029T010000
END:STANDARD
END:VTIMEZONE
BEGIN:VEVENT
DTSTART;VALUE=DATE:20230224
DTEND;VALUE=DATE:20230226
DTSTAMP:20260426T014050
CREATED:20210327T120012Z
LAST-MODIFIED:20230409T191114Z
UID:10000003-1677196800-1677369599@casalinguae.at
SUMMARY:Interkulturelle Kompetenz – Training & Workshops
DESCRIPTION:Interkulturelle Kompetenz – Training & Workshops\nEntwickeln Sie Interkulturelle Kompetenzen und lernen Sie mit Hilfe unseres Trainings\n„Interkulturelle Kommunikation – Dazu gehört mehr als die Sprache“ andere Kulturen kennen und verstehen. \nGleich für den nächsten Termin anmelden! Wir freuen uns :-) \nKurzworkshops zu einzelnen Ländern gibt es hier … \n\n\n\nFörderungen
URL:https://casalinguae.at/events-casalinguae/interkulturelle-kompetenz-training-workshops/
LOCATION:CL: CasaLinguae e.U.\, Mozartgasse 4/2\, Wien\, 1040\, Austria
CATEGORIES:Diversity
ATTACH;FMTTYPE=image/jpeg:https://casalinguae.at/wp-content/uploads/2020/12/Expat-scaled.jpeg
END:VEVENT
END:VCALENDAR